Package: DifferentialRegulation Version: 2.2.2 Command: rm -rf DifferentialRegulation.buildbin-libdir && mkdir DifferentialRegulation.buildbin-libdir && E:\biocbuild\bbs-3.19-bioc\R\bin\R.exe CMD INSTALL --build --library=DifferentialRegulation.buildbin-libdir DifferentialRegulation_2.2.2.tar.gz StartedAt: 2024-10-17 07:41:44 -0400 (Thu, 17 Oct 2024) EndedAt: 2024-10-17 07:43:40 -0400 (Thu, 17 Oct 2024) EllapsedTime: 116.3 seconds RetCode: 0 Status: OK PackageFile: DifferentialRegulation_2.2.2.zip PackageFileSize: 2.841 <A href="http://en.wikipedia.org/wiki/MiB" target="_blank">MiB</A>