Package: DifferentialRegulation
Version: 2.2.0
Command: /Library/Frameworks/R.framework/Resources/bin/R CMD INSTALL DifferentialRegulation
StartedAt: 2024-06-09 15:15:43 -0400 (Sun, 09 Jun 2024)
EndedAt: 2024-06-09 15:16:45 -0400 (Sun, 09 Jun 2024)
EllapsedTime: 61.3 seconds
RetCode: 0
Status: OK