Package: DifferentialRegulation Version: 2.2.0 Command: rm -rf DifferentialRegulation.buildbin-libdir && mkdir DifferentialRegulation.buildbin-libdir && /Users/biocbuild/BBS/utils/build-universal.sh DifferentialRegulation_2.2.0.tar.gz /Library/Frameworks/R.framework/Resources/bin/R DifferentialRegulation.buildbin-libdir StartedAt: 2024-06-10 00:15:21 -0400 (Mon, 10 Jun 2024) EndedAt: 2024-06-10 00:16:27 -0400 (Mon, 10 Jun 2024) EllapsedTime: 65.3 seconds RetCode: 0 Status: OK PackageFile: DifferentialRegulation_2.2.0.tgz PackageFileSize: 2.957 <A href="http://en.wikipedia.org/wiki/MiB" target="_blank">MiB</A>