Package: DifferentialRegulation
Version: 2.2.2
Command: /Library/Frameworks/R.framework/Resources/bin/R CMD INSTALL DifferentialRegulation
StartedAt: 2024-10-16 16:56:21 -0400 (Wed, 16 Oct 2024)
EndedAt: 2024-10-16 16:57:14 -0400 (Wed, 16 Oct 2024)
EllapsedTime: 53.5 seconds
RetCode: 0
Status: OK