Package: DifferentialRegulation
Version: 2.2.2
Command: /Library/Frameworks/R.framework/Resources/bin/R CMD build --keep-empty-dirs --no-resave-data DifferentialRegulation
StartedAt: 2024-10-16 23:19:49 -0400 (Wed, 16 Oct 2024)
EndedAt: 2024-10-16 23:23:05 -0400 (Wed, 16 Oct 2024)
EllapsedTime: 195.9 seconds
RetCode: 0
Status: OK
PackageFile: DifferentialRegulation_2.2.2.tar.gz
PackageFileSize: 2.806 <A href="http://en.wikipedia.org/wiki/MiB" target="_blank">MiB</A>