Package: DepInfeR
Version: 1.8.0
Maintainer: Junyan Lu
MaintainerEmail: jylu1118 at gmail.com
git_url: https://git.bioconductor.org/packages/DepInfeR
git_branch: RELEASE_3_19
git_last_commit: 6c858b2
git_last_commit_date: 2024-04-30 11:41:30 -0400 (Tue, 30 Apr 2024)