Package: DelayedMatrixStats
Version: 1.26.0
Command: /Library/Frameworks/R.framework/Resources/bin/R CMD check --install=check:DelayedMatrixStats.install-out.txt --library=/Library/Frameworks/R.framework/Resources/library --no-vignettes --timings DelayedMatrixStats_1.26.0.tar.gz
StartedAt: 2024-06-09 19:53:01 -0400 (Sun, 09 Jun 2024)
EndedAt: 2024-06-09 19:58:39 -0400 (Sun, 09 Jun 2024)
EllapsedTime: 338.0 seconds
RetCode: 0
Status: OK
CheckDir: DelayedMatrixStats.Rcheck
Warnings: 0