Package: DelayedMatrixStats
Version: 1.26.0
Command: /Library/Frameworks/R.framework/Resources/bin/R CMD build --keep-empty-dirs --no-resave-data DelayedMatrixStats
StartedAt: 2024-06-09 16:25:47 -0400 (Sun, 09 Jun 2024)
EndedAt: 2024-06-09 16:31:08 -0400 (Sun, 09 Jun 2024)
EllapsedTime: 320.8 seconds
RetCode: 0
Status: OK
PackageFile: DelayedMatrixStats_1.26.0.tar.gz
PackageFileSize: 264.3 <A href="http://en.wikipedia.org/wiki/KiB" target="_blank">KiB</A>