Package: DelayedArray
Version: 0.30.1
Maintainer: Hervé Pagès
MaintainerEmail: hpages.on.github at gmail.com
git_url: https://git.bioconductor.org/packages/DelayedArray
git_branch: RELEASE_3_19
git_last_commit: 099a643
git_last_commit_date: 2024-05-06 19:22:25 -0400 (Mon, 06 May 2024)