Package: DeepPINCS
Version: 1.12.0
Maintainer: Dongmin Jung
MaintainerEmail: dmdmjung at gmail.com
git_url: https://git.bioconductor.org/packages/DeepPINCS
git_branch: RELEASE_3_19
git_last_commit: 5b82528
git_last_commit_date: 2024-04-30 11:34:00 -0400 (Tue, 30 Apr 2024)