Package: DeMAND
Version: 1.34.0
Command: /Library/Frameworks/R.framework/Resources/bin/R CMD check --install=check:DeMAND.install-out.txt --library=/Library/Frameworks/R.framework/Resources/library --no-vignettes --timings DeMAND_1.34.0.tar.gz
StartedAt: 2024-06-10 13:25:39 -0400 (Mon, 10 Jun 2024)
EndedAt: 2024-06-10 13:26:27 -0400 (Mon, 10 Jun 2024)
EllapsedTime: 48.4 seconds
RetCode: 0
Status: OK
CheckDir: DeMAND.Rcheck
Warnings: 0