Package: DeMAND
Version: 1.34.0
Command: /Library/Frameworks/R.framework/Resources/bin/R CMD INSTALL DeMAND
StartedAt: 2024-10-16 15:36:44 -0400 (Wed, 16 Oct 2024)
EndedAt: 2024-10-16 15:36:47 -0400 (Wed, 16 Oct 2024)
EllapsedTime: 2.3 seconds
RetCode: 0
Status: OK