Package: DeMAND
Version: 1.34.0
Command: /Library/Frameworks/R.framework/Resources/bin/R CMD check --install=check:DeMAND.install-out.txt --library=/Library/Frameworks/R.framework/Resources/library --no-vignettes --timings DeMAND_1.34.0.tar.gz
StartedAt: 2024-10-17 19:18:39 -0400 (Thu, 17 Oct 2024)
EndedAt: 2024-10-17 19:19:08 -0400 (Thu, 17 Oct 2024)
EllapsedTime: 29.0 seconds
RetCode: 0
Status: OK
CheckDir: DeMAND.Rcheck
Warnings: 0