Package: DSS
Version: 2.52.0
Maintainer: Hao Wu <hao.wu@emory.edu>, Hao Feng
MaintainerEmail: hxf155 at case.edu
git_url: https://git.bioconductor.org/packages/DSS
git_branch: RELEASE_3_19
git_last_commit: bc65766
git_last_commit_date: 2024-04-30 10:28:02 -0400 (Tue, 30 Apr 2024)