Package: DOSE
Version: 3.30.5
Maintainer: Guangchuang Yu
MaintainerEmail: guangchuangyu at gmail.com
git_url: https://git.bioconductor.org/packages/DOSE
git_branch: RELEASE_3_19
git_last_commit: f2882c1
git_last_commit_date: 2024-08-26 06:23:33 -0400 (Mon, 26 Aug 2024)