Package: DNABarcodes
Version: 1.34.0
Command: chmod a+r DNABarcodes -R && F:\biocbuild\bbs-3.19-bioc\R\bin\R.exe CMD build --keep-empty-dirs --no-resave-data DNABarcodes
StartedAt: 2024-06-26 18:28:37 -0400 (Wed, 26 Jun 2024)
EndedAt: 2024-06-26 18:31:11 -0400 (Wed, 26 Jun 2024)
EllapsedTime: 153.9 seconds
RetCode: 0
Status: OK
PackageFile: DNABarcodes_1.34.0.tar.gz
PackageFileSize: 348.3 <A href="http://en.wikipedia.org/wiki/KiB" target="_blank">KiB</A>