Package: DNABarcodes
Version: 1.34.0
Command: rm -rf DNABarcodes.buildbin-libdir && mkdir DNABarcodes.buildbin-libdir && F:\biocbuild\bbs-3.19-bioc\R\bin\R.exe CMD INSTALL --build --library=DNABarcodes.buildbin-libdir DNABarcodes_1.34.0.tar.gz
StartedAt: 2024-06-27 08:08:16 -0400 (Thu, 27 Jun 2024)
EndedAt: 2024-06-27 08:10:53 -0400 (Thu, 27 Jun 2024)
EllapsedTime: 156.6 seconds
RetCode: 0
Status: OK
PackageFile: DNABarcodes_1.34.0.zip
PackageFileSize: 887.2 <A href="http://en.wikipedia.org/wiki/KiB" target="_blank">KiB</A>