Package: DNABarcodes
Version: 1.34.0
Command: /Library/Frameworks/R.framework/Resources/bin/R CMD build --keep-empty-dirs --no-resave-data DNABarcodes
StartedAt: 2024-06-09 20:50:29 -0400 (Sun, 09 Jun 2024)
EndedAt: 2024-06-09 20:52:34 -0400 (Sun, 09 Jun 2024)
EllapsedTime: 124.2 seconds
RetCode: 0
Status: OK
PackageFile: DNABarcodes_1.34.0.tar.gz
PackageFileSize: 348.2 <A href="http://en.wikipedia.org/wiki/KiB" target="_blank">KiB</A>