Package: DNABarcodes
Version: 1.34.0
Command: rm -rf DNABarcodes.buildbin-libdir && mkdir DNABarcodes.buildbin-libdir && /Users/biocbuild/BBS/utils/build-universal.sh DNABarcodes_1.34.0.tar.gz /Library/Frameworks/R.framework/Resources/bin/R DNABarcodes.buildbin-libdir
StartedAt: 2024-06-11 11:00:12 -0400 (Tue, 11 Jun 2024)
EndedAt: 2024-06-11 11:02:39 -0400 (Tue, 11 Jun 2024)
EllapsedTime: 147.2 seconds
RetCode: 0
Status: OK
PackageFile: DNABarcodes_1.34.0.tgz
PackageFileSize: 479.6 <A href="http://en.wikipedia.org/wiki/KiB" target="_blank">KiB</A>