Package: DMCFB
Version: 1.18.0
Command: /home/biocbuild/bbs-3.19-bioc/R/bin/R CMD INSTALL DMCFB
StartedAt: 2024-10-16 16:04:19 -0400 (Wed, 16 Oct 2024)
EndedAt: 2024-10-16 16:04:54 -0400 (Wed, 16 Oct 2024)
EllapsedTime: 34.8 seconds
RetCode: 0
Status: OK