Package: DMCFB Version: 1.18.0 Command: /Library/Frameworks/R.framework/Resources/bin/R CMD build --keep-empty-dirs --no-resave-data DMCFB StartedAt: 2024-10-16 23:27:20 -0400 (Wed, 16 Oct 2024) EndedAt: 2024-10-16 23:29:04 -0400 (Wed, 16 Oct 2024) EllapsedTime: 103.3 seconds RetCode: 0 Status: OK PackageFile: DMCFB_1.18.0.tar.gz PackageFileSize: 1.067 <A href="http://en.wikipedia.org/wiki/MiB" target="_blank">MiB</A>