Package: DIAlignR
Version: 2.12.0
Command: /Library/Frameworks/R.framework/Resources/bin/R CMD build --keep-empty-dirs --no-resave-data DIAlignR
StartedAt: 2024-10-16 23:15:27 -0400 (Wed, 16 Oct 2024)
EndedAt: 2024-10-16 23:16:52 -0400 (Wed, 16 Oct 2024)
EllapsedTime: 84.6 seconds
RetCode: 0
Status: OK
PackageFile: DIAlignR_2.12.0.tar.gz
PackageFileSize: 4.27 <A href="http://en.wikipedia.org/wiki/MiB" target="_blank">MiB</A>