Package: DEScan2
Version: 1.24.0
Maintainer: Dario Righelli
MaintainerEmail: dario.righelli at gmail.com
git_url: https://git.bioconductor.org/packages/DEScan2
git_branch: RELEASE_3_19
git_last_commit: b61e7e9
git_last_commit_date: 2024-04-30 11:04:37 -0400 (Tue, 30 Apr 2024)