Package: DELocal
Version: 1.4.0
Command: E:\biocbuild\bbs-3.19-bioc\R\bin\R.exe CMD INSTALL DELocal
StartedAt: 2024-10-16 16:25:01 -0400 (Wed, 16 Oct 2024)
EndedAt: 2024-10-16 16:25:29 -0400 (Wed, 16 Oct 2024)
EllapsedTime: 28.1 seconds
RetCode: 0
Status: OK