Package: DELocal
Version: 1.4.0
Command: E:\biocbuild\bbs-3.19-bioc\R\bin\R.exe CMD check --no-multiarch --install=check:DELocal.install-out.txt --library=E:\biocbuild\bbs-3.19-bioc\R\library --no-vignettes --timings DELocal_1.4.0.tar.gz
StartedAt: 2024-10-17 00:43:54 -0400 (Thu, 17 Oct 2024)
EndedAt: 2024-10-17 00:47:22 -0400 (Thu, 17 Oct 2024)
EllapsedTime: 207.8 seconds
RetCode: 0
Status: OK
CheckDir: DELocal.Rcheck
Warnings: 0