Package: DELocal
Version: 1.4.0
Command: chmod a+r DELocal -R && E:\biocbuild\bbs-3.19-bioc\R\bin\R.exe CMD build --keep-empty-dirs --no-resave-data DELocal
StartedAt: 2024-10-16 18:37:17 -0400 (Wed, 16 Oct 2024)
EndedAt: 2024-10-16 18:38:46 -0400 (Wed, 16 Oct 2024)
EllapsedTime: 88.9 seconds
RetCode: 0
Status: OK
PackageFile: DELocal_1.4.0.tar.gz
PackageFileSize: 2.299 <A href="http://en.wikipedia.org/wiki/MiB" target="_blank">MiB</A>