##############################################################################
##############################################################################
###
### Running command:
###
###   rm -rf DELocal.buildbin-libdir && mkdir DELocal.buildbin-libdir && E:\biocbuild\bbs-3.19-bioc\R\bin\R.exe CMD INSTALL --build --library=DELocal.buildbin-libdir DELocal_1.4.0.tar.gz
###
##############################################################################
##############################################################################


* installing *source* package 'DELocal' ...
** using staged installation
** R
** inst
** byte-compile and prepare package for lazy loading
** help
*** installing help indices
*** copying figures
** building package indices
** installing vignettes
** testing if installed package can be loaded from temporary location
** testing if installed package can be loaded from final location
** testing if installed package keeps a record of temporary installation path
* MD5 sums
packaged installation of 'DELocal' as DELocal_1.4.0.zip
* DONE (DELocal)