Package: DELocal
Version: 1.4.0
Command: /Library/Frameworks/R.framework/Resources/bin/R CMD INSTALL DELocal
StartedAt: 2024-06-09 15:48:14 -0400 (Sun, 09 Jun 2024)
EndedAt: 2024-06-09 15:48:48 -0400 (Sun, 09 Jun 2024)
EllapsedTime: 34.0 seconds
RetCode: 0
Status: OK