Package: DELocal
Version: 1.4.0
Command: /Library/Frameworks/R.framework/Resources/bin/R CMD check --install=check:DELocal.install-out.txt --library=/Library/Frameworks/R.framework/Resources/library --no-vignettes --timings DELocal_1.4.0.tar.gz
StartedAt: 2024-06-10 13:22:14 -0400 (Mon, 10 Jun 2024)
EndedAt: 2024-06-10 13:27:47 -0400 (Mon, 10 Jun 2024)
EllapsedTime: 333.0 seconds
RetCode: 0
Status: OK
CheckDir: DELocal.Rcheck
Warnings: 0