Package: DELocal
Version: 1.4.0
Command: rm -rf DELocal.buildbin-libdir && mkdir DELocal.buildbin-libdir && /Users/biocbuild/BBS/utils/build-universal.sh DELocal_1.4.0.tar.gz /Library/Frameworks/R.framework/Resources/bin/R DELocal.buildbin-libdir
StartedAt: 2024-06-11 10:54:12 -0400 (Tue, 11 Jun 2024)
EndedAt: 2024-06-11 10:55:01 -0400 (Tue, 11 Jun 2024)
EllapsedTime: 49.0 seconds
RetCode: 0
Status: OK
PackageFile: DELocal_1.4.0.tgz
PackageFileSize: 2.374 <A href="http://en.wikipedia.org/wiki/MiB" target="_blank">MiB</A>