Package: DEGseq
Version: 1.58.0
Maintainer: Likun Wang
MaintainerEmail: wanglk at pku.edu.cn
git_url: https://git.bioconductor.org/packages/DEGseq
git_branch: RELEASE_3_19
git_last_commit: a480aee
git_last_commit_date: 2024-04-30 10:20:57 -0400 (Tue, 30 Apr 2024)