Package: DEGreport
Version: 1.40.1
Command: E:\biocbuild\bbs-3.19-bioc\R\bin\R.exe CMD INSTALL DEGreport
StartedAt: 2024-10-16 16:42:10 -0400 (Wed, 16 Oct 2024)
EndedAt: 2024-10-16 16:43:01 -0400 (Wed, 16 Oct 2024)
EllapsedTime: 51.6 seconds
RetCode: 0
Status: OK