Package: DEGreport
Version: 1.40.1
Command: rm -rf DEGreport.buildbin-libdir && mkdir DEGreport.buildbin-libdir && E:\biocbuild\bbs-3.19-bioc\R\bin\R.exe CMD INSTALL --build --library=DEGreport.buildbin-libdir DEGreport_1.40.1.tar.gz
StartedAt: 2024-10-17 07:39:47 -0400 (Thu, 17 Oct 2024)
EndedAt: 2024-10-17 07:40:41 -0400 (Thu, 17 Oct 2024)
EllapsedTime: 54.1 seconds
RetCode: 0
Status: OK
PackageFile: DEGreport_1.40.1.zip
PackageFileSize: 2.304 <A href="http://en.wikipedia.org/wiki/MiB" target="_blank">MiB</A>