Package: DEGreport
Version: 1.40.0
Command: /Library/Frameworks/R.framework/Resources/bin/R CMD build --keep-empty-dirs --no-resave-data DEGreport
StartedAt: 2024-06-09 16:25:18 -0400 (Sun, 09 Jun 2024)
EndedAt: 2024-06-09 16:26:32 -0400 (Sun, 09 Jun 2024)
EllapsedTime: 74.4 seconds
RetCode: 0
Status: OK
PackageFile: DEGreport_1.40.0.tar.gz
PackageFileSize: 19.72 <A href="http://en.wikipedia.org/wiki/MiB" target="_blank">MiB</A>