Package: DEGreport
Version: 1.40.0
Command: /home/biocbuild/R/R-beta-2024-04-15_r86425/bin/R CMD check --install=check:DEGreport.install-out.txt --library=/home/biocbuild/R/R-beta-2024-04-15_r86425/site-library --no-vignettes --timings DEGreport_1.40.0.tar.gz
StartedAt: 2024-05-09 06:37:34 -0000 (Thu, 09 May 2024)
EndedAt: 2024-05-09 06:44:05 -0000 (Thu, 09 May 2024)
EllapsedTime: 390.6 seconds
RetCode: 0
Status: OK
CheckDir: DEGreport.Rcheck
Warnings: 0