Package: DEGreport
Version: 1.40.0
Command: /home/biocbuild/R/R-beta-2024-04-15_r86425/bin/R CMD build --keep-empty-dirs --no-resave-data DEGreport
StartedAt: 2024-05-08 23:47:16 -0000 (Wed, 08 May 2024)
EndedAt: 2024-05-08 23:48:58 -0000 (Wed, 08 May 2024)
EllapsedTime: 102.1 seconds
RetCode: 0
Status: OK
PackageFile: DEGreport_1.40.0.tar.gz
PackageFileSize: 18.85 <A href="http://en.wikipedia.org/wiki/MiB" target="_blank">MiB</A>