Package: DEGreport
Version: 1.40.1
Command: /Library/Frameworks/R.framework/Resources/bin/R CMD INSTALL DEGreport
StartedAt: 2024-10-16 17:01:01 -0400 (Wed, 16 Oct 2024)
EndedAt: 2024-10-16 17:01:37 -0400 (Wed, 16 Oct 2024)
EllapsedTime: 36.7 seconds
RetCode: 0
Status: OK