Package: DEGreport
Version: 1.40.1
Command: /Library/Frameworks/R.framework/Resources/bin/R CMD check --install=check:DEGreport.install-out.txt --library=/Library/Frameworks/R.framework/Resources/library --no-vignettes --timings DEGreport_1.40.1.tar.gz
StartedAt: 2024-10-17 19:06:01 -0400 (Thu, 17 Oct 2024)
EndedAt: 2024-10-17 19:11:48 -0400 (Thu, 17 Oct 2024)
EllapsedTime: 346.7 seconds
RetCode: 0
Status: OK
CheckDir: DEGreport.Rcheck
Warnings: 0