Package: DEGreport
Version: 1.40.1
Command: rm -rf DEGreport.buildbin-libdir && mkdir DEGreport.buildbin-libdir && /Users/biocbuild/BBS/utils/build-universal.sh DEGreport_1.40.1.tar.gz /Library/Frameworks/R.framework/Resources/bin/R DEGreport.buildbin-libdir
StartedAt: 2024-10-18 18:07:45 -0400 (Fri, 18 Oct 2024)
EndedAt: 2024-10-18 18:08:32 -0400 (Fri, 18 Oct 2024)
EllapsedTime: 46.6 seconds
RetCode: 0
Status: OK
PackageFile: DEGreport_1.40.1.tgz
PackageFileSize: 3.319 <A href="http://en.wikipedia.org/wiki/MiB" target="_blank">MiB</A>