Package: DEGraph
Version: 1.56.0
Maintainer: Laurent Jacob
MaintainerEmail: laurent.jacob at gmail.com
git_url: https://git.bioconductor.org/packages/DEGraph
git_branch: RELEASE_3_19
git_last_commit: 7c213a8
git_last_commit_date: 2024-04-30 10:23:06 -0400 (Tue, 30 Apr 2024)