Package: DECIPHER
Version: 3.0.0
Maintainer: Erik Wright
MaintainerEmail: eswright at pitt.edu
git_url: https://git.bioconductor.org/packages/DECIPHER
git_branch: RELEASE_3_19
git_last_commit: 1b13c4e
git_last_commit_date: 2024-04-30 10:25:51 -0400 (Tue, 30 Apr 2024)