Package: DCATS
Version: 1.2.0
Maintainer: Xinyi Lin
MaintainerEmail: linxy29 at connect.hku.hk
git_url: https://git.bioconductor.org/packages/DCATS
git_branch: RELEASE_3_19
git_last_commit: 9d22aa6
git_last_commit_date: 2024-04-30 11:49:43 -0400 (Tue, 30 Apr 2024)