Package: CytoMDS
Version: 1.0.0
Command: rm -rf CytoMDS.buildbin-libdir && mkdir CytoMDS.buildbin-libdir && E:\biocbuild\bbs-3.19-bioc\R\bin\R.exe CMD INSTALL --build --library=CytoMDS.buildbin-libdir CytoMDS_1.0.0.tar.gz
StartedAt: 2024-10-17 07:37:59 -0400 (Thu, 17 Oct 2024)
EndedAt: 2024-10-17 07:38:43 -0400 (Thu, 17 Oct 2024)
EllapsedTime: 44.9 seconds
RetCode: 0
Status: OK
PackageFile: CytoMDS_1.0.0.zip
PackageFileSize: 1.179 <A href="http://en.wikipedia.org/wiki/MiB" target="_blank">MiB</A>