Package: CytoGLMM
Version: 1.12.0
Command: /Library/Frameworks/R.framework/Resources/bin/R CMD INSTALL CytoGLMM
StartedAt: 2024-06-09 15:42:35 -0400 (Sun, 09 Jun 2024)
EndedAt: 2024-06-09 15:42:54 -0400 (Sun, 09 Jun 2024)
EllapsedTime: 18.9 seconds
RetCode: 0
Status: OK