Package: CopyNumberPlots
Version: 1.20.0
Maintainer: Bernat Gel
MaintainerEmail: bgel at igtp.cat
git_url: https://git.bioconductor.org/packages/CopyNumberPlots
git_branch: RELEASE_3_19
git_last_commit: 853880e
git_last_commit_date: 2024-04-30 11:14:18 -0400 (Tue, 30 Apr 2024)