Package: CompoundDb
Version: 1.8.0
Command: /home/biocbuild/R/R-beta-2024-04-15_r86425/bin/R CMD build --keep-empty-dirs --no-resave-data CompoundDb
StartedAt: 2024-05-08 23:30:11 -0000 (Wed, 08 May 2024)
EndedAt: 2024-05-08 23:30:58 -0000 (Wed, 08 May 2024)
EllapsedTime: 47.1 seconds
RetCode: 0
Status: OK
PackageFile: CompoundDb_1.8.0.tar.gz
PackageFileSize: 1.424 <A href="http://en.wikipedia.org/wiki/MiB" target="_blank">MiB</A>