Package: ClusterFoldSimilarity
Version: 1.0.0
Maintainer: Oscar Gonzalez-Velasco
MaintainerEmail: oscargvelasco at gmail.com
git_url: https://git.bioconductor.org/packages/ClusterFoldSimilarity
git_branch: RELEASE_3_19
git_last_commit: 6b1131d
git_last_commit_date: 2024-04-30 11:53:03 -0400 (Tue, 30 Apr 2024)