Package: ClustIRR
Version: 1.2.0
Maintainer: Simo Kitanovski
MaintainerEmail: simokitanovski at gmail.com
git_url: https://git.bioconductor.org/packages/ClustIRR
git_branch: RELEASE_3_19
git_last_commit: ea30ea3
git_last_commit_date: 2024-04-30 11:51:52 -0400 (Tue, 30 Apr 2024)