Package: ClustAll
Version: 1.0.2
Command: E:\biocbuild\bbs-3.19-bioc\R\bin\R.exe CMD INSTALL ClustAll
StartedAt: 2024-10-16 17:08:41 -0400 (Wed, 16 Oct 2024)
EndedAt: 2024-10-16 17:09:35 -0400 (Wed, 16 Oct 2024)
EllapsedTime: 53.6 seconds
RetCode: 0
Status: OK