Package: ClustAll
Version: 1.0.2
Command: E:\biocbuild\bbs-3.19-bioc\R\bin\R.exe CMD check --no-multiarch --install=check:ClustAll.install-out.txt --library=E:\biocbuild\bbs-3.19-bioc\R\library --no-vignettes --timings ClustAll_1.0.2.tar.gz
StartedAt: 2024-10-17 00:04:42 -0400 (Thu, 17 Oct 2024)
EndedAt: 2024-10-17 00:08:48 -0400 (Thu, 17 Oct 2024)
EllapsedTime: 246.5 seconds
RetCode: 1
Status: ERROR
CheckDir: ClustAll.Rcheck
Warnings: NA